BEGIN:VCALENDAR
VERSION:2.0
PRODID:-//Squarespace Inc/Squarespace 6//v6//EN
BEGIN:VEVENT
UID:5ad03fe68a922de8df73b147@squarespace.com
DTSTAMP:20180524T224935Z
DTSTART:20180524T220000Z
DTEND:20180713T230000Z
SUMMARY:Q2: Water Sprint 
END:VEVENT
END:VCALENDAR
