BEGIN:VCALENDAR
VERSION:2.0
PRODID:-//Squarespace Inc/Squarespace 6//v6//EN
BEGIN:VEVENT
UID:5c0eddd68a922db3fd18cd9e@squarespace.com
DTSTAMP:20181210T214415Z
DTSTART:20180711T213000Z
DTEND:20180711T230000Z
SUMMARY:Water Sprint Wrap Up
GEO:-36.841426;174.75468
LOCATION:Sustainable Coastlines\, Flagship Building\, 55 Madden Street  Wyn
 yard Quarter  Auckland\, Auckland 1010
END:VEVENT
END:VCALENDAR
