BEGIN:VCALENDAR
VERSION:2.0
PRODID:-//Squarespace Inc/Squarespace 6//v6//EN
BEGIN:VEVENT
UID:5c0ee80470a6ad3d9bef9194@squarespace.com
DTSTAMP:20181210T222732Z
DTSTART:20180524T223000Z
DTEND:20180525T003000Z
SUMMARY:Water Expert Event
GEO:-36.842237;174.763155
LOCATION:Auckland Whale and Dolphin Safari Boat\, 175 Quay Street\, Aucklan
 d\, Auckland\, 1010\, New Zealand
END:VEVENT
END:VCALENDAR
