BEGIN:VCALENDAR
VERSION:2.0
PRODID:-//Squarespace Inc/Squarespace 6//v6//EN
BEGIN:VEVENT
UID:5cf59bb63331540001a3863e@squarespace.com
DTSTAMP:20190603T221637Z
DTSTART:20190612T220000Z
DTEND:20190613T000000Z
SUMMARY:Towards Zero Carbon
GEO:-36.8484;174.756746
LOCATION:Ricoh\, 200 Victoria Street West\, Auckland\, Auckland\, 1010\, Ne
 w Zealand
END:VEVENT
END:VCALENDAR
