BEGIN:VCALENDAR
VERSION:2.0
PRODID:-//Squarespace Inc/Squarespace 6//v6//EN
BEGIN:VEVENT
UID:5c0ec5690ebbe8423dbb1e03@squarespace.com
DTSTAMP:20181210T200156Z
DTSTART:20181107T230000Z
DTEND:20181108T020000Z
SUMMARY:The Power of One
GEO:-36.843611;174.756974
LOCATION:Warren & Mahoney Architects\, 139 Pakenham Street West\, Auckland\
 , Auckland\, 1141\, New Zealand
END:VEVENT
END:VCALENDAR
