BEGIN:VCALENDAR
VERSION:2.0
PRODID:-//Squarespace Inc/Squarespace 6//v6//EN
BEGIN:VEVENT
UID:5c0ed44d21c67cab2fbc8af8@squarespace.com
DTSTAMP:20181210T210402Z
DTSTART:20180829T213000Z
DTEND:20180830T003000Z
SUMMARY:The Now Crowd: The True Cost Documentary Screening &amp\; Discussio
 n 
GEO:-36.841339;174.754725
LOCATION:Sustainable Coastlines\, Flagship Building\, 55 Madden Street\, Au
 ckland\, Auckland\, 1010\, New Zealand
END:VEVENT
END:VCALENDAR
