BEGIN:VCALENDAR
VERSION:2.0
PRODID:-//Squarespace Inc/Squarespace 6//v6//EN
BEGIN:VEVENT
UID:5c8974d6104c7bc32c0c37f2@squarespace.com
DTSTAMP:20190313T212635Z
DTSTART:20190131T223000Z
DTEND:20190201T013000Z
SUMMARY:The Psychology of Sustainability
GEO:40.720756;-74.000761
LOCATION:GridAKL / John Lysaght\, 101 Pakenham Street West\, Auckland\, Auc
 kland\, 1010\, New Zealand
END:VEVENT
END:VCALENDAR
