BEGIN:VCALENDAR
VERSION:2.0
PRODID:-//Squarespace Inc/Squarespace 6//v6//EN
BEGIN:VEVENT
UID:5d76da0112565a74645c5ae0@squarespace.com
DTSTAMP:20190909T230408Z
DTSTART:20190912T213000Z
DTEND:20190912T233000Z
SUMMARY:The Now Crowd presents: Pitching Sustainability 
GEO:-37.686585;176.167122
LOCATION:Basestation\, 148 Durham Street\, Tauranga\, Bay Of Plenty\, 3110\
 , New Zealand
END:VEVENT
END:VCALENDAR
