BEGIN:VCALENDAR
VERSION:2.0
PRODID:-//Squarespace Inc/Squarespace 6//v6//EN
BEGIN:VEVENT
UID:5c89720f652dea3c6c0b8652@squarespace.com
DTSTAMP:20190313T212643Z
DTSTART:20190327T213000Z
DTEND:20190328T003000Z
SUMMARY:A Social Impact Workshop (Members only)
GEO:-36.843542;174.756396
LOCATION:GridAKL / John Lysaght\, 101 Pakenham Street West\, Auckland\, Auc
 kland\, 1010\, New Zealand
END:VEVENT
END:VCALENDAR
