BEGIN:VCALENDAR
VERSION:2.0
PRODID:-//Squarespace Inc/Squarespace 6//v6//EN
BEGIN:VEVENT
UID:5c0ecf546d2a732e74d3a2cd@squarespace.com
DTSTAMP:20181210T205102Z
DTSTART:20181011T220000Z
DTEND:20181012T003000Z
SUMMARY:The Circular Economy
GEO:-36.841426;174.75468
LOCATION:Sustainable Coastlines\, 55 Madden Street\, Auckland\, Auckland\, 
 1010\, New Zealand
END:VEVENT
END:VCALENDAR
