BEGIN:VCALENDAR
VERSION:2.0
PRODID:-//Squarespace Inc/Squarespace 6//v6//EN
BEGIN:VEVENT
UID:5c0ed678c2241b1fedba4778@squarespace.com
DTSTAMP:20181210T211307Z
DTSTART:20180816T220000Z
DTEND:20180817T003000Z
SUMMARY:Sustainable Supply Chains
GEO:-36.843611;174.756974
LOCATION:Warren & Mahoney Architects\, 139 Pakenham Street West\, Auckland\
 , Auckland\, 1141\, New Zealand
END:VEVENT
END:VCALENDAR
