BEGIN:VCALENDAR
VERSION:2.0
PRODID:-//Squarespace Inc/Squarespace 6//v6//EN
BEGIN:VEVENT
UID:5c0ed1d04ae237f0998aecd0@squarespace.com
DTSTAMP:20181210T205301Z
DTSTART:20180926T220000Z
DTEND:20180927T003000Z
SUMMARY:Sustainable Supply Chains WRAP UP EVENT
GEO:-36.848731;174.750659
LOCATION:Ecospace\, 1 Scotland St  Freeman's Bay  Auckland\, Auckland 1010
END:VEVENT
END:VCALENDAR
