BEGIN:VCALENDAR
VERSION:2.0
PRODID:-//Squarespace Inc/Squarespace 6//v6//EN
BEGIN:VEVENT
UID:5c0edd5c4ae237f0998bbefe@squarespace.com
DTSTAMP:20181210T214231Z
DTSTART:20180725T220000Z
DTEND:20180726T000000Z
SUMMARY:Pitching Sustainability
END:VEVENT
END:VCALENDAR
