BEGIN:VCALENDAR
VERSION:2.0
PRODID:-//Squarespace Inc/Squarespace 6//v6//EN
BEGIN:VEVENT
UID:5d1132fc6a18f70001ee7e55@squarespace.com
DTSTAMP:20190624T203146Z
DTSTART:20190429T220000Z
DTEND:20190430T000000Z
SUMMARY:Everybody eats!
END:VEVENT
END:VCALENDAR
