BEGIN:VCALENDAR
VERSION:2.0
PRODID:-//Squarespace Inc/Squarespace 6//v6//EN
BEGIN:VEVENT
UID:5c8ac519f9619a54de810887@squarespace.com
DTSTAMP:20190314T211933Z
DTSTART:20181206T223000Z
DTEND:20181207T013000Z
SUMMARY:Christmas celebration!
GEO:-36.842306;174.763979
LOCATION:The Lula Inn\, 149 Quay Street\, Auckland\, Auckland\, 1010\, New 
 Zealand
END:VEVENT
END:VCALENDAR
